BEGIN:VCALENDAR
VERSION:2.0
PRODID:-//Chequessett Club | Cape Cod Golf, Tennis &amp; Pickleball - ECPv6.15.20//NONSGML v1.0//EN
CALSCALE:GREGORIAN
METHOD:PUBLISH
X-WR-CALNAME:Chequessett Club | Cape Cod Golf, Tennis &amp; Pickleball
X-ORIGINAL-URL:https://chequessettclub.com
X-WR-CALDESC:Events for Chequessett Club | Cape Cod Golf, Tennis &amp; Pickleball
REFRESH-INTERVAL;VALUE=DURATION:PT1H
X-Robots-Tag:noindex
X-PUBLISHED-TTL:PT1H
BEGIN:VTIMEZONE
TZID:America/Halifax
BEGIN:DAYLIGHT
TZOFFSETFROM:-0400
TZOFFSETTO:-0300
TZNAME:ADT
DTSTART:20240310T060000
END:DAYLIGHT
BEGIN:STANDARD
TZOFFSETFROM:-0300
TZOFFSETTO:-0400
TZNAME:AST
DTSTART:20241103T050000
END:STANDARD
BEGIN:DAYLIGHT
TZOFFSETFROM:-0400
TZOFFSETTO:-0300
TZNAME:ADT
DTSTART:20250309T060000
END:DAYLIGHT
BEGIN:STANDARD
TZOFFSETFROM:-0300
TZOFFSETTO:-0400
TZNAME:AST
DTSTART:20251102T050000
END:STANDARD
BEGIN:DAYLIGHT
TZOFFSETFROM:-0400
TZOFFSETTO:-0300
TZNAME:ADT
DTSTART:20260308T060000
END:DAYLIGHT
BEGIN:STANDARD
TZOFFSETFROM:-0300
TZOFFSETTO:-0400
TZNAME:AST
DTSTART:20261101T050000
END:STANDARD
END:VTIMEZONE
BEGIN:VEVENT
DTSTART;TZID=America/Halifax:20250731T170000
DTEND;TZID=America/Halifax:20250731T190000
DTSTAMP:20260425T073628
CREATED:20250304T032024Z
LAST-MODIFIED:20250409T151054Z
UID:10000030-1753981200-1753988400@chequessettclub.com
SUMMARY:Thursday Social
DESCRIPTION:Gather in the charming ambiance of our Boathouse every Thursday evening\, where you can unwind\, mingle\, and make new friends. Enjoy the convenience of a cash bar offering a selection of delightful beverages. Don’t miss out on the fun – register now and make Thursday nights at Chequessett club your weekly social highlight! 
URL:https://chequessettclub.com/event/thursday-social-7/
LOCATION:Chequessett Club\, 680 Chequessett Neck Rd\, Wellfleet\, Massachusetts\, 02667-7325
CATEGORIES:Socials
ATTACH;FMTTYPE=image/jpeg:https://chequessettclub.com/wp-content/uploads/2025/03/Image_20230527_183133_841-scaled.jpeg
END:VEVENT
BEGIN:VEVENT
DTSTART;TZID=America/Halifax:20250725T180000
DTEND;TZID=America/Halifax:20250725T200000
DTSTAMP:20260425T073628
CREATED:20250516T165108Z
LAST-MODIFIED:20250516T165113Z
UID:10000191-1753466400-1753473600@chequessettclub.com
SUMMARY:Kids Night Out
DESCRIPTION:Kids Tested\, Parent Approved! Kids night out. Join Chequessett counselors for an evening of games\, movies\, and snacks! Designed just for kids ages 5 and up! Drop off the kids and enjoy a parents only night!
URL:https://chequessettclub.com/event/kids-night-out-2/
LOCATION:Chequessett Club\, 680 Chequessett Neck Rd\, Wellfleet\, Massachusetts\, 02667-7325
CATEGORIES:Socials
ATTACH;FMTTYPE=image/jpeg:https://chequessettclub.com/wp-content/uploads/2024/12/20240709_145037960_iOS-scaled.jpg
END:VEVENT
BEGIN:VEVENT
DTSTART;TZID=America/Halifax:20250724T170000
DTEND;TZID=America/Halifax:20250724T190000
DTSTAMP:20260425T073628
CREATED:20250304T031859Z
LAST-MODIFIED:20250409T150704Z
UID:10000188-1753376400-1753383600@chequessettclub.com
SUMMARY:Thursday Social
DESCRIPTION:Gather in the charming ambiance of our Boathouse every Thursday evening\, where you can unwind\, mingle\, and make new friends. Enjoy the convenience of a cash bar offering a selection of delightful beverages. Don’t miss out on the fun – register now and make Thursday nights at Chequessett club your weekly social highlight! 
URL:https://chequessettclub.com/event/thursday-social-6/2025-07-24/
LOCATION:Chequessett Club\, 680 Chequessett Neck Rd\, Wellfleet\, Massachusetts\, 02667-7325
CATEGORIES:Socials
ATTACH;FMTTYPE=image/jpeg:https://chequessettclub.com/wp-content/uploads/2025/03/290304595_10159736074052988_3759828917059953445_n.jpeg
END:VEVENT
BEGIN:VEVENT
DTSTART;TZID=America/Halifax:20250722T170000
DTEND;TZID=America/Halifax:20250722T190000
DTSTAMP:20260425T073628
CREATED:20241209T224551Z
LAST-MODIFIED:20250710T152523Z
UID:10000093-1753203600-1753210800@chequessettclub.com
SUMMARY:Summer Paint & Sip
DESCRIPTION:Enjoy an evening of art\, cold drinks and good company!
URL:https://chequessettclub.com/event/summer-paint-sip/
LOCATION:Chequessett Club\, 680 Chequessett Neck Rd\, Wellfleet\, Massachusetts\, 02667-7325
CATEGORIES:Socials
ATTACH;FMTTYPE=image/jpeg:https://chequessettclub.com/wp-content/uploads/2024/12/photo_5087137893528480863_y.jpg
END:VEVENT
BEGIN:VEVENT
DTSTART;TZID=America/Halifax:20250722T080000
DTEND;TZID=America/Halifax:20250722T120000
DTSTAMP:20260425T073628
CREATED:20250205T200520Z
LAST-MODIFIED:20250409T150752Z
UID:10000143-1753171200-1753185600@chequessettclub.com
SUMMARY:MK Memorial Tourney
DESCRIPTION:If you’d like to get affiliated with the League\, please reach out to the League’s Chairmen Mike Snell & Gary Carter @ cyccgolf@gmail.com
URL:https://chequessettclub.com/event/mk-memorial-tourney/
LOCATION:Chequessett Club\, 680 Chequessett Neck Rd\, Wellfleet\, Massachusetts\, 02667-7325
CATEGORIES:Golf
ATTACH;FMTTYPE=image/jpeg:https://chequessettclub.com/wp-content/uploads/2025/02/IMG_0613-scaled.jpg
ORGANIZER;CN="Men's League":MAILTO:cyccgolf@gmail.com
END:VEVENT
BEGIN:VEVENT
DTSTART;TZID=America/Halifax:20250720T150000
DTEND;TZID=America/Halifax:20250720T180000
DTSTAMP:20260425T073628
CREATED:20250205T192440Z
LAST-MODIFIED:20250610T171138Z
UID:10000182-1753023600-1753034400@chequessettclub.com
SUMMARY:Sunday Golf Mixer
DESCRIPTION:Spend your afternoon in a great company enjoying our golf course.
URL:https://chequessettclub.com/event/sunday-golf-mixer/2025-07-20/
LOCATION:Chequessett Club\, 680 Chequessett Neck Rd\, Wellfleet\, Massachusetts\, 02667-7325
CATEGORIES:Golf
ATTACH;FMTTYPE=image/jpeg:https://chequessettclub.com/wp-content/uploads/2024/02/Golf_5.jpeg
END:VEVENT
BEGIN:VEVENT
DTSTART;TZID=America/Halifax:20250720T100000
DTEND;TZID=America/Halifax:20250720T120000
DTSTAMP:20260425T073628
CREATED:20250304T033142Z
LAST-MODIFIED:20250409T150751Z
UID:10000163-1753005600-1753012800@chequessettclub.com
SUMMARY:Cranberry Classic — Pickleball Conoslation Round
DESCRIPTION:Please click the button below to register to participate in this tournament. Enjoy our buffet lunch on the deck after play!
URL:https://chequessettclub.com/event/cranberry-classic-pickleball-conoslation-round/
LOCATION:Chequessett Club\, 680 Chequessett Neck Rd\, Wellfleet\, Massachusetts\, 02667-7325
CATEGORIES:Pickleball,Tennis
ATTACH;FMTTYPE=image/jpeg:https://chequessettclub.com/wp-content/uploads/2025/03/IMG_0547-scaled.jpg
END:VEVENT
BEGIN:VEVENT
DTSTART;TZID=America/Halifax:20250720T090000
DTEND;TZID=America/Halifax:20250720T120000
DTSTAMP:20260425T073628
CREATED:20241210T230152Z
LAST-MODIFIED:20250616T152712Z
UID:10000122-1753002000-1753012800@chequessettclub.com
SUMMARY:Cranberry Classic — Mixed Doubles
DESCRIPTION:Please click the button below to register yourself and your partner (if any) to participate in this tournament.
URL:https://chequessettclub.com/event/cranberry-classic-mixed-doubles/
LOCATION:Chequessett Club\, 680 Chequessett Neck Rd\, Wellfleet\, Massachusetts\, 02667-7325
CATEGORIES:Tennis
ATTACH;FMTTYPE=image/jpeg:https://chequessettclub.com/wp-content/uploads/2024/12/IMG_0392-scaled-e1741014209151.jpg
END:VEVENT
BEGIN:VEVENT
DTSTART;TZID=America/Halifax:20250719T093000
DTEND;TZID=America/Halifax:20250719T110000
DTSTAMP:20260425T073628
CREATED:20241210T225637Z
LAST-MODIFIED:20250616T152708Z
UID:10000119-1752917400-1752922800@chequessettclub.com
SUMMARY:Cranberry Classic — Women's Doubles
DESCRIPTION:Please click the button below to register yourself and your partner (if any) to participate in this tournament.
URL:https://chequessettclub.com/event/cranberry-classic-womens-doubles/
LOCATION:Chequessett Club\, 680 Chequessett Neck Rd\, Wellfleet\, Massachusetts\, 02667-7325
CATEGORIES:Tennis
ATTACH;FMTTYPE=image/jpeg:https://chequessettclub.com/wp-content/uploads/2024/12/IMG_0348-scaled.jpg
END:VEVENT
BEGIN:VEVENT
DTSTART;TZID=America/Halifax:20250719T070000
DTEND;TZID=America/Halifax:20250719T093000
DTSTAMP:20260425T073628
CREATED:20241210T225726Z
LAST-MODIFIED:20250616T152705Z
UID:10000120-1752908400-1752917400@chequessettclub.com
SUMMARY:Cranberry Classic — Men's Doubles
DESCRIPTION:Please click the button below to register yourself and your partner (if any) to participate in this tournament.
URL:https://chequessettclub.com/event/cranberry-classic-mens-doubles/
LOCATION:Chequessett Club\, 680 Chequessett Neck Rd\, Wellfleet\, Massachusetts\, 02667-7325
CATEGORIES:Tennis
ATTACH;FMTTYPE=image/jpeg:https://chequessettclub.com/wp-content/uploads/2024/12/IMG_0341-scaled.jpg
END:VEVENT
BEGIN:VEVENT
DTSTART;TZID=America/Halifax:20250717T170000
DTEND;TZID=America/Halifax:20250717T190000
DTSTAMP:20260425T073628
CREATED:20250304T031859Z
LAST-MODIFIED:20250409T150704Z
UID:10000187-1752771600-1752778800@chequessettclub.com
SUMMARY:Thursday Social
DESCRIPTION:Gather in the charming ambiance of our Boathouse every Thursday evening\, where you can unwind\, mingle\, and make new friends. Enjoy the convenience of a cash bar offering a selection of delightful beverages. Don’t miss out on the fun – register now and make Thursday nights at Chequessett club your weekly social highlight! 
URL:https://chequessettclub.com/event/thursday-social-6/2025-07-17/
LOCATION:Chequessett Club\, 680 Chequessett Neck Rd\, Wellfleet\, Massachusetts\, 02667-7325
CATEGORIES:Socials
ATTACH;FMTTYPE=image/jpeg:https://chequessettclub.com/wp-content/uploads/2025/03/290304595_10159736074052988_3759828917059953445_n.jpeg
END:VEVENT
BEGIN:VEVENT
DTSTART;TZID=America/Halifax:20250713T100000
DTEND;TZID=America/Halifax:20250713T120000
DTSTAMP:20260425T073628
CREATED:20241210T225859Z
LAST-MODIFIED:20250616T152703Z
UID:10000121-1752400800-1752408000@chequessettclub.com
SUMMARY:Cranberry Classic — Junior Singles (16 and younger)
DESCRIPTION:Please click the button below to register yourself and your partner (if any) to participate in this tournament.
URL:https://chequessettclub.com/event/cranberry-classic-junior-singles-16-and-younger/
LOCATION:Chequessett Club\, 680 Chequessett Neck Rd\, Wellfleet\, Massachusetts\, 02667-7325
CATEGORIES:Tennis
ATTACH;FMTTYPE=image/jpeg:https://chequessettclub.com/wp-content/uploads/2024/12/20240814_182145658_iOS-scaled.jpg
END:VEVENT
BEGIN:VEVENT
DTSTART;TZID=America/Halifax:20250713T080000
DTEND;TZID=America/Halifax:20250713T120000
DTSTAMP:20260425T073628
CREATED:20241210T225541Z
LAST-MODIFIED:20250616T152700Z
UID:10000118-1752393600-1752408000@chequessettclub.com
SUMMARY:Cranberry Classic — Pickleball Tournament
DESCRIPTION:Please click the button below to register yourself and your partner (if any) to participate in this tournament.
URL:https://chequessettclub.com/event/cranberry-classic-pickleball-tournament/
LOCATION:Chequessett Club\, 680 Chequessett Neck Rd\, Wellfleet\, Massachusetts\, 02667-7325
CATEGORIES:Pickleball,Tennis
ATTACH;FMTTYPE=image/jpeg:https://chequessettclub.com/wp-content/uploads/2024/12/IMG_9677-scaled.jpg
END:VEVENT
BEGIN:VEVENT
DTSTART;TZID=America/Halifax:20250712T093000
DTEND;TZID=America/Halifax:20250712T120000
DTSTAMP:20260425T073628
CREATED:20241210T225215Z
LAST-MODIFIED:20250616T152656Z
UID:10000116-1752312600-1752321600@chequessettclub.com
SUMMARY:Cranberry Classic - Women's Singles
DESCRIPTION:Please click the button below to register yourself and your partner (if any) to participate in this tournament.
URL:https://chequessettclub.com/event/cranberry-classic-womens-singles/
LOCATION:Chequessett Club\, 680 Chequessett Neck Rd\, Wellfleet\, Massachusetts\, 02667-7325
CATEGORIES:Tennis
ATTACH;FMTTYPE=image/jpeg:https://chequessettclub.com/wp-content/uploads/2024/12/IMG_0351.jpg
END:VEVENT
BEGIN:VEVENT
DTSTART;TZID=America/Halifax:20250712T070000
DTEND;TZID=America/Halifax:20250712T093000
DTSTAMP:20260425T073628
CREATED:20241210T225416Z
LAST-MODIFIED:20250616T152609Z
UID:10000117-1752303600-1752312600@chequessettclub.com
SUMMARY:Cranberry Classic — Men's Singles
DESCRIPTION:Please click the button below to register to participate in this tournament.
URL:https://chequessettclub.com/event/cranberry-classic-mens-singles/
LOCATION:Chequessett Club\, 680 Chequessett Neck Rd\, Wellfleet\, Massachusetts\, 02667-7325
CATEGORIES:Tennis
ATTACH;FMTTYPE=image/jpeg:https://chequessettclub.com/wp-content/uploads/2024/12/20240714_135824620_iOS-scaled-e1740584387692.jpg
END:VEVENT
BEGIN:VEVENT
DTSTART;TZID=America/Halifax:20250710T170000
DTEND;TZID=America/Halifax:20250710T190000
DTSTAMP:20260425T073628
CREATED:20250304T031527Z
LAST-MODIFIED:20250409T145004Z
UID:10000027-1752166800-1752174000@chequessettclub.com
SUMMARY:Thursday Social
DESCRIPTION:Gather in the charming ambiance of our Boathouse every Thursday evening\, where you can unwind\, mingle\, and make new friends. Enjoy the convenience of a cash bar offering a selection of delightful beverages. Don’t miss out on the fun – register now and make Thursday nights at Chequessett club your weekly social highlight! 
URL:https://chequessettclub.com/event/thursday-social-5/
LOCATION:Chequessett Club\, 680 Chequessett Neck Rd\, Wellfleet\, Massachusetts\, 02667-7325
CATEGORIES:Socials
ATTACH;FMTTYPE=image/jpeg:https://chequessettclub.com/wp-content/uploads/2025/03/image_50456321-scaled.jpg
END:VEVENT
BEGIN:VEVENT
DTSTART;TZID=America/Halifax:20250706T150000
DTEND;TZID=America/Halifax:20250706T180000
DTSTAMP:20260425T073628
CREATED:20250205T192440Z
LAST-MODIFIED:20250610T171138Z
UID:10000186-1751814000-1751824800@chequessettclub.com
SUMMARY:Sunday Golf Mixer
DESCRIPTION:Spend your afternoon in a great company enjoying our golf course.
URL:https://chequessettclub.com/event/sunday-golf-mixer/2025-07-06/
LOCATION:Chequessett Club\, 680 Chequessett Neck Rd\, Wellfleet\, Massachusetts\, 02667-7325
CATEGORIES:Golf
ATTACH;FMTTYPE=image/jpeg:https://chequessettclub.com/wp-content/uploads/2024/02/Golf_5.jpeg
END:VEVENT
BEGIN:VEVENT
DTSTART;TZID=America/Halifax:20250703T150000
DTEND;TZID=America/Halifax:20250703T170000
DTSTAMP:20260425T073628
CREATED:20241210T222717Z
LAST-MODIFIED:20250624T192531Z
UID:10000106-1751554800-1751562000@chequessettclub.com
SUMMARY:Red\, White & Blue Tennis Social Play
DESCRIPTION:Patriotic attire is encouraged! \n\n\n\nCash bar will be available on the clubhouse’s deck. 
URL:https://chequessettclub.com/event/red-white-blue-tennis-social-play/
LOCATION:Chequessett Club\, 680 Chequessett Neck Rd\, Wellfleet\, Massachusetts\, 02667-7325
CATEGORIES:Tennis
ATTACH;FMTTYPE=image/jpeg:https://chequessettclub.com/wp-content/uploads/2024/12/IMG_0101-1-scaled.jpg
END:VEVENT
BEGIN:VEVENT
DTSTART;TZID=America/Halifax:20250626T170000
DTEND;TZID=America/Halifax:20250626T190000
DTSTAMP:20260425T073628
CREATED:20250304T030910Z
LAST-MODIFIED:20250409T145616Z
UID:10000025-1750957200-1750964400@chequessettclub.com
SUMMARY:Thursday Social
DESCRIPTION:Gather in the charming ambiance of our Boathouse every Thursday evening\, where you can unwind\, mingle\, and make new friends. Enjoy the convenience of a cash bar offering a selection of delightful beverages. Don’t miss out on the fun – register now and make Thursday nights at Chequessett club your weekly social highlight! 
URL:https://chequessettclub.com/event/thursday-social-3/
LOCATION:Chequessett Club\, 680 Chequessett Neck Rd\, Wellfleet\, Massachusetts\, 02667-7325
CATEGORIES:Socials
ATTACH;FMTTYPE=image/jpeg:https://chequessettclub.com/wp-content/uploads/2025/03/Image_20230527_175442_129-scaled.jpeg
END:VEVENT
BEGIN:VEVENT
DTSTART;TZID=America/Halifax:20250626T160000
DTEND;TZID=America/Halifax:20250626T170000
DTSTAMP:20260425T073628
CREATED:20241210T222428Z
LAST-MODIFIED:20250527T151917Z
UID:10000105-1750953600-1750957200@chequessettclub.com
SUMMARY:Tennis Drills & Drinks
DESCRIPTION:Drill with Calvin\, meet more tennis friends and head to the Boathouse to enjoy our Thursday Social!
URL:https://chequessettclub.com/event/drills-drinks/
LOCATION:Chequessett Club\, 680 Chequessett Neck Rd\, Wellfleet\, Massachusetts\, 02667-7325
CATEGORIES:Tennis
ATTACH;FMTTYPE=image/jpeg:https://chequessettclub.com/wp-content/uploads/2024/12/20240901_150821930_iOS-scaled.jpg
END:VEVENT
BEGIN:VEVENT
DTSTART;TZID=America/Halifax:20250625T093000
DTEND;TZID=America/Halifax:20250625T130000
DTSTAMP:20260425T073628
CREATED:20250305T210100Z
LAST-MODIFIED:20250409T145043Z
UID:10000165-1750843800-1750856400@chequessettclub.com
SUMMARY:Kingsway Ladies Invitational
DESCRIPTION:If you would like to join the Women’s League\, please reach out to the League’s Chairwomen Susan Oxman and Mary Lovejoy at ccwomensleague@gmail.com
URL:https://chequessettclub.com/event/kingsway-ladies-invitational/
LOCATION:Chequessett Club\, 680 Chequessett Neck Rd\, Wellfleet\, Massachusetts\, 02667-7325
CATEGORIES:Golf
ATTACH;FMTTYPE=image/jpeg:https://chequessettclub.com/wp-content/uploads/2025/03/20240703_174820000_iOS-scaled.jpg
ORGANIZER;CN="Women's League":MAILTO:ccwomensleague@gmail.com
END:VEVENT
BEGIN:VEVENT
DTSTART;TZID=America/Halifax:20250624T080000
DTEND;TZID=America/Halifax:20250624T120000
DTSTAMP:20260425T073628
CREATED:20250205T194448Z
LAST-MODIFIED:20250409T145040Z
UID:10000142-1750752000-1750766400@chequessettclub.com
SUMMARY:North/South Challenge
DESCRIPTION:If you’d like to join the Men’s League\, please reach out to the League’s Chairmen Mike Snell & Gary Carter @ cyccgolf@gmail.com
URL:https://chequessettclub.com/event/north-south-challenge/
LOCATION:Chequessett Club\, 680 Chequessett Neck Rd\, Wellfleet\, Massachusetts\, 02667-7325
CATEGORIES:Golf
ATTACH;FMTTYPE=image/jpeg:https://chequessettclub.com/wp-content/uploads/2025/02/download.jpeg
ORGANIZER;CN="Men's League":MAILTO:cyccgolf@gmail.com
END:VEVENT
BEGIN:VEVENT
DTSTART;TZID=America/Halifax:20250622T080000
DTEND;TZID=America/Halifax:20250622T120000
DTSTAMP:20260425T073628
CREATED:20241212T232612Z
LAST-MODIFIED:20250724T203220Z
UID:10000180-1750579200-1750593600@chequessettclub.com
SUMMARY:Men/Women/Mixed Doubles Pickleball Tournament
DESCRIPTION:Don’t miss the chance to join our exciting pickleball tournament\, where fun\, fitness\, and friendly competition come together. Sign up now to challenge yourself\, meet new players\, and enjoy a fantastic day on the courts! Light refreshments will be served\, and the cash bar will be available after the event. \n\n\n\nMen’s Tournament 8:00 AM – 10:00 AM \n\n\n\nWomen’s Tournament 8:00 AM – 10:00 AM \n\n\n\nMixed Doubles Tournament 10:00 AM – 12:00 PM \n\n\n\nPLEASE NOTE THE PRICING IS FOR THE TEAM OF 2 PER EVENT.
URL:https://chequessettclub.com/event/men-women-mixed-doubles/2025-06-22/
LOCATION:Chequessett Club\, 680 Chequessett Neck Rd\, Wellfleet\, Massachusetts\, 02667-7325
CATEGORIES:Pickleball
ATTACH;FMTTYPE=image/jpeg:https://chequessettclub.com/wp-content/uploads/2024/12/IMG_3894-scaled.jpg
END:VEVENT
BEGIN:VEVENT
DTSTART;TZID=America/Halifax:20250620T130000
DTEND;TZID=America/Halifax:20250620T170000
DTSTAMP:20260425T073628
CREATED:20250205T194339Z
LAST-MODIFIED:20250527T185523Z
UID:10000141-1750424400-1750438800@chequessettclub.com
SUMMARY:Men's Member/Member
DESCRIPTION:This event is open to all male members of the Club. Enjoy heavy appetizers and a cash bar after the event.  \n\n\n\nPlease reach out to our Golf Pro Don Brigham if you have any questions (732) 996 – 3164 or dbrigham7069@gmail.com
URL:https://chequessettclub.com/event/mens-member-member/
LOCATION:Chequessett Club\, 680 Chequessett Neck Rd\, Wellfleet\, Massachusetts\, 02667-7325
CATEGORIES:Golf
ATTACH;FMTTYPE=image/jpeg:https://chequessettclub.com/wp-content/uploads/2025/02/bcdb37_b555cb4e0680463a88d944301bf0582b-mv2.jpg
END:VEVENT
BEGIN:VEVENT
DTSTART;TZID=America/Halifax:20250619T170000
DTEND;TZID=America/Halifax:20250619T190000
DTSTAMP:20260425T073628
CREATED:20250226T193032Z
LAST-MODIFIED:20250409T145221Z
UID:10000024-1750352400-1750359600@chequessettclub.com
SUMMARY:Thursday Social
DESCRIPTION:Gather in the charming ambiance of our Boathouse every Thursday evening\, where you can unwind\, mingle\, and make new friends. Enjoy the convenience of a cash bar offering a selection of delightful beverages. Don’t miss out on the fun – register now and make Thursday nights at Chequessett club your weekly social highlight! 
URL:https://chequessettclub.com/event/thursday-social-2/
LOCATION:Chequessett Club\, 680 Chequessett Neck Rd\, Wellfleet\, Massachusetts\, 02667-7325
CATEGORIES:Socials
ATTACH;FMTTYPE=image/jpeg:https://chequessettclub.com/wp-content/uploads/2025/02/IMG_1532-scaled.jpg
END:VEVENT
BEGIN:VEVENT
DTSTART;TZID=America/Halifax:20250614T200000
DTEND;TZID=America/Halifax:20250615T195959
DTSTAMP:20260425T073628
CREATED:20241209T222254Z
LAST-MODIFIED:20250219T203716Z
UID:10000090-1749931200-1750017599@chequessettclub.com
SUMMARY:Father's Day Lunch
DESCRIPTION:Spend your Father’s Day at the Chequessett Club! Enjoy our lunch specials at Bayside Bar & Grille for your Father’s Day celebration!
URL:https://chequessettclub.com/event/fathers-day-lunch/
LOCATION:Chequessett Club\, 680 Chequessett Neck Rd\, Wellfleet\, Massachusetts\, 02667-7325
CATEGORIES:Socials
ATTACH;FMTTYPE=image/jpeg:https://chequessettclub.com/wp-content/uploads/2024/12/20240703_173216320_iOS-scaled.jpg
END:VEVENT
BEGIN:VEVENT
DTSTART;TZID=America/Halifax:20250604T093000
DTEND;TZID=America/Halifax:20250604T130000
DTSTAMP:20260425T073628
CREATED:20250305T205913Z
LAST-MODIFIED:20250409T144642Z
UID:10000164-1749029400-1749042000@chequessettclub.com
SUMMARY:Opening Day Shotgun &  Meeting
DESCRIPTION:If you would like to join the Women’s League\, please reach out to the League’s Chairwomen Susan Oxman and Mary Lovejoy at ccwomensleague@gmail.com
URL:https://chequessettclub.com/event/opening-day-shotgun-meeting/
LOCATION:Chequessett Club\, 680 Chequessett Neck Rd\, Wellfleet\, Massachusetts\, 02667-7325
CATEGORIES:Golf
ATTACH;FMTTYPE=image/jpeg:https://chequessettclub.com/wp-content/uploads/2025/03/20240703_174111480_iOS-scaled.jpg
ORGANIZER;CN="Women's League":MAILTO:ccwomensleague@gmail.com
END:VEVENT
BEGIN:VEVENT
DTSTART;TZID=America/Halifax:20250603T080000
DTEND;TZID=America/Halifax:20250603T120000
DTSTAMP:20260425T073628
CREATED:20250205T194157Z
LAST-MODIFIED:20250409T144609Z
UID:10000140-1748937600-1748952000@chequessettclub.com
SUMMARY:Opening Day/Shotgun
DESCRIPTION:If you’d like to join the League\, please reach out to the League’s Chairmen Mike Snell & Gary Carter @ cyccgolf@gmail.com
URL:https://chequessettclub.com/event/opening-day-shotgun/
LOCATION:Chequessett Club\, 680 Chequessett Neck Rd\, Wellfleet\, Massachusetts\, 02667-7325
CATEGORIES:Golf
ATTACH;FMTTYPE=image/jpeg:https://chequessettclub.com/wp-content/uploads/2025/02/IMG_0613-scaled.jpg
ORGANIZER;CN="Men's League":MAILTO:cyccgolf@gmail.com
END:VEVENT
BEGIN:VEVENT
DTSTART;TZID=America/Halifax:20250529T200000
DTEND;TZID=America/Halifax:20250529T220000
DTSTAMP:20260425T073628
CREATED:20250214T185325Z
LAST-MODIFIED:20260325T191631Z
UID:10000211-1748548800-1748556000@chequessettclub.com
SUMMARY:Thursday Socials On The Deck
DESCRIPTION:We are excited to introduce our modified Thursday Socials on the Deck! Enjoy great company and a cash bar on the Club’s Deck early in the season.
URL:https://chequessettclub.com/event/thursday-social-on-the-deck/2025-05-29/
LOCATION:Chequessett Club\, 680 Chequessett Neck Rd\, Wellfleet\, Massachusetts\, 02667-7325
CATEGORIES:Socials
ATTACH;FMTTYPE=image/jpeg:https://chequessettclub.com/wp-content/uploads/2025/02/IMG_2642-scaled.jpeg
END:VEVENT
BEGIN:VEVENT
DTSTART;TZID=America/Halifax:20250525T100000
DTEND;TZID=America/Halifax:20250525T120000
DTSTAMP:20260425T073628
CREATED:20250219T203145Z
LAST-MODIFIED:20250509T140324Z
UID:10000161-1748167200-1748174400@chequessettclub.com
SUMMARY:Opening Party & Golf Shotgun
DESCRIPTION:Come out swinging on opening day\, meet new friends & work up an appetite for some tasty treats at our barbeque on the beach! Barbeque is included in entry fee.
URL:https://chequessettclub.com/event/opening-party-golf-shotgun/
LOCATION:Chequessett Club\, 680 Chequessett Neck Rd\, Wellfleet\, Massachusetts\, 02667-7325
CATEGORIES:Golf
ATTACH;FMTTYPE=image/jpeg:https://chequessettclub.com/wp-content/uploads/2025/02/IMG_9678-scaled.jpg
END:VEVENT
END:VCALENDAR