BEGIN:VCALENDAR
VERSION:2.0
PRODID:-//Chequessett Club | Cape Cod Golf, Tennis &amp; Pickleball - ECPv6.15.20//NONSGML v1.0//EN
CALSCALE:GREGORIAN
METHOD:PUBLISH
X-WR-CALNAME:Chequessett Club | Cape Cod Golf, Tennis &amp; Pickleball
X-ORIGINAL-URL:https://chequessettclub.com
X-WR-CALDESC:Events for Chequessett Club | Cape Cod Golf, Tennis &amp; Pickleball
REFRESH-INTERVAL;VALUE=DURATION:PT1H
X-Robots-Tag:noindex
X-PUBLISHED-TTL:PT1H
BEGIN:VTIMEZONE
TZID:America/Halifax
BEGIN:DAYLIGHT
TZOFFSETFROM:-0400
TZOFFSETTO:-0300
TZNAME:ADT
DTSTART:20220313T060000
END:DAYLIGHT
BEGIN:STANDARD
TZOFFSETFROM:-0300
TZOFFSETTO:-0400
TZNAME:AST
DTSTART:20221106T050000
END:STANDARD
BEGIN:DAYLIGHT
TZOFFSETFROM:-0400
TZOFFSETTO:-0300
TZNAME:ADT
DTSTART:20230312T060000
END:DAYLIGHT
BEGIN:STANDARD
TZOFFSETFROM:-0300
TZOFFSETTO:-0400
TZNAME:AST
DTSTART:20231105T050000
END:STANDARD
BEGIN:DAYLIGHT
TZOFFSETFROM:-0400
TZOFFSETTO:-0300
TZNAME:ADT
DTSTART:20240310T060000
END:DAYLIGHT
BEGIN:STANDARD
TZOFFSETFROM:-0300
TZOFFSETTO:-0400
TZNAME:AST
DTSTART:20241103T050000
END:STANDARD
BEGIN:DAYLIGHT
TZOFFSETFROM:-0400
TZOFFSETTO:-0300
TZNAME:ADT
DTSTART:20250309T060000
END:DAYLIGHT
BEGIN:STANDARD
TZOFFSETFROM:-0300
TZOFFSETTO:-0400
TZNAME:AST
DTSTART:20251102T050000
END:STANDARD
BEGIN:DAYLIGHT
TZOFFSETFROM:-0400
TZOFFSETTO:-0300
TZNAME:ADT
DTSTART:20260308T060000
END:DAYLIGHT
BEGIN:STANDARD
TZOFFSETFROM:-0300
TZOFFSETTO:-0400
TZNAME:AST
DTSTART:20261101T050000
END:STANDARD
END:VTIMEZONE
BEGIN:VEVENT
DTSTART;TZID=America/Halifax:20250508T200000
DTEND;TZID=America/Halifax:20250508T220000
DTSTAMP:20260425T123021
CREATED:20250214T185325Z
LAST-MODIFIED:20260325T191631Z
UID:10000208-1746734400-1746741600@chequessettclub.com
SUMMARY:Thursday Socials On The Deck
DESCRIPTION:We are excited to introduce our modified Thursday Socials on the Deck! Enjoy great company and a cash bar on the Club’s Deck early in the season.
URL:https://chequessettclub.com/event/thursday-social-on-the-deck/2025-05-08/
LOCATION:Chequessett Club\, 680 Chequessett Neck Rd\, Wellfleet\, Massachusetts\, 02667-7325
CATEGORIES:Socials
ATTACH;FMTTYPE=image/jpeg:https://chequessettclub.com/wp-content/uploads/2025/02/IMG_2642-scaled.jpeg
END:VEVENT
BEGIN:VEVENT
DTSTART;TZID=America/Halifax:20250501T200000
DTEND;TZID=America/Halifax:20250501T220000
DTSTAMP:20260425T123021
CREATED:20250214T185325Z
LAST-MODIFIED:20260325T191631Z
UID:10000207-1746129600-1746136800@chequessettclub.com
SUMMARY:Thursday Socials On The Deck
DESCRIPTION:We are excited to introduce our modified Thursday Socials on the Deck! Enjoy great company and a cash bar on the Club’s Deck early in the season.
URL:https://chequessettclub.com/event/thursday-social-on-the-deck/2025-05-01/
LOCATION:Chequessett Club\, 680 Chequessett Neck Rd\, Wellfleet\, Massachusetts\, 02667-7325
CATEGORIES:Socials
ATTACH;FMTTYPE=image/jpeg:https://chequessettclub.com/wp-content/uploads/2025/02/IMG_2642-scaled.jpeg
END:VEVENT
BEGIN:VEVENT
DTSTART;TZID=America/Halifax:20250424T200000
DTEND;TZID=America/Halifax:20250424T220000
DTSTAMP:20260425T123021
CREATED:20250214T185325Z
LAST-MODIFIED:20260325T191631Z
UID:10000206-1745524800-1745532000@chequessettclub.com
SUMMARY:Thursday Socials On The Deck
DESCRIPTION:We are excited to introduce our modified Thursday Socials on the Deck! Enjoy great company and a cash bar on the Club’s Deck early in the season.
URL:https://chequessettclub.com/event/thursday-social-on-the-deck/2025-04-24/
LOCATION:Chequessett Club\, 680 Chequessett Neck Rd\, Wellfleet\, Massachusetts\, 02667-7325
CATEGORIES:Socials
ATTACH;FMTTYPE=image/jpeg:https://chequessettclub.com/wp-content/uploads/2025/02/IMG_2642-scaled.jpeg
END:VEVENT
BEGIN:VEVENT
DTSTART;TZID=America/Halifax:20250417T200000
DTEND;TZID=America/Halifax:20250417T220000
DTSTAMP:20260425T123021
CREATED:20250214T185325Z
LAST-MODIFIED:20260325T191631Z
UID:10000205-1744920000-1744927200@chequessettclub.com
SUMMARY:Thursday Socials On The Deck
DESCRIPTION:We are excited to introduce our modified Thursday Socials on the Deck! Enjoy great company and a cash bar on the Club’s Deck early in the season.
URL:https://chequessettclub.com/event/thursday-social-on-the-deck/2025-04-17/
LOCATION:Chequessett Club\, 680 Chequessett Neck Rd\, Wellfleet\, Massachusetts\, 02667-7325
CATEGORIES:Socials
ATTACH;FMTTYPE=image/jpeg:https://chequessettclub.com/wp-content/uploads/2025/02/IMG_2642-scaled.jpeg
END:VEVENT
BEGIN:VEVENT
DTSTART;TZID=America/Halifax:20250416T200000
DTEND;TZID=America/Halifax:20250416T220000
DTSTAMP:20260425T123021
CREATED:20250214T185325Z
LAST-MODIFIED:20260325T191631Z
UID:10000204-1744833600-1744840800@chequessettclub.com
SUMMARY:Thursday Socials On The Deck
DESCRIPTION:We are excited to introduce our modified Thursday Socials on the Deck! Enjoy great company and a cash bar on the Club’s Deck early in the season.
URL:https://chequessettclub.com/event/thursday-social-on-the-deck/2025-04-16/
LOCATION:Chequessett Club\, 680 Chequessett Neck Rd\, Wellfleet\, Massachusetts\, 02667-7325
CATEGORIES:Socials
ATTACH;FMTTYPE=image/jpeg:https://chequessettclub.com/wp-content/uploads/2025/02/IMG_2642-scaled.jpeg
END:VEVENT
BEGIN:VEVENT
DTSTART;TZID=America/Halifax:20250412T160000
DTEND;TZID=America/Halifax:20250412T193000
DTSTAMP:20260425T123021
CREATED:20250113T211203Z
LAST-MODIFIED:20250409T143712Z
UID:10000132-1744473600-1744486200@chequessettclub.com
SUMMARY:Family Favorite Recipe Potluck Party
DESCRIPTION:Bring your best dish\, appetizers or dessert! \n\n\n\nCash bar available.
URL:https://chequessettclub.com/event/lasagna-cook-off/
LOCATION:Chequessett Club\, 680 Chequessett Neck Rd\, Wellfleet\, Massachusetts\, 02667-7325
CATEGORIES:Socials
ATTACH;FMTTYPE=image/jpeg:https://chequessettclub.com/wp-content/uploads/2025/01/IMG_8933-scaled.jpg
END:VEVENT
BEGIN:VEVENT
DTSTART;TZID=America/Halifax:20250215T120000
DTEND;TZID=America/Halifax:20250215T150000
DTSTAMP:20260425T123021
CREATED:20250113T204939Z
LAST-MODIFIED:20250113T204941Z
UID:10000131-1739620800-1739631600@chequessettclub.com
SUMMARY:President's Potluck Dinner
DESCRIPTION:A fun evening of sharing recipes\, reconnecting with your friends and enjoying the cash bar at Chequessett Club!
URL:https://chequessettclub.com/event/presidents-potluck-dinner/
LOCATION:Chequessett Club\, 680 Chequessett Neck Rd\, Wellfleet\, Massachusetts\, 02667-7325
CATEGORIES:Socials
ATTACH;FMTTYPE=image/jpeg:https://chequessettclub.com/wp-content/uploads/2025/01/food-salad-dinner-eating-5929.jpg
END:VEVENT
BEGIN:VEVENT
DTSTART;TZID=America/Halifax:20241228T120000
DTEND;TZID=America/Halifax:20241228T150000
DTSTAMP:20260425T123021
CREATED:20241206T201858Z
LAST-MODIFIED:20241209T232709Z
UID:10000019-1735387200-1735398000@chequessettclub.com
SUMMARY:Soup Cook-Off
DESCRIPTION:Bring soup\, appetizers or dessert! \n\n\n\nCash bar available.
URL:https://chequessettclub.com/event/soup-cook-off/
LOCATION:Chequessett Club\, 680 Chequessett Neck Rd\, Wellfleet\, Massachusetts\, 02667-7325
CATEGORIES:Socials
ATTACH;FMTTYPE=image/jpeg:https://chequessettclub.com/wp-content/uploads/2024/12/photo_5087137893528480859_y-e1733505705999.jpg
END:VEVENT
BEGIN:VEVENT
DTSTART;TZID=America/Halifax:20240316T200000
DTEND;TZID=America/Halifax:20240317T195959
DTSTAMP:20260425T123021
CREATED:20231122T022235Z
LAST-MODIFIED:20240321T223615Z
UID:10000006-1710619200-1710705599@chequessettclub.com
SUMMARY:Saint Patrick's Day
DESCRIPTION:
URL:https://chequessettclub.com/event/saint-patricks-day/
LOCATION:Massachusetts
CATEGORIES:Holidays
END:VEVENT
BEGIN:VEVENT
DTSTART;TZID=America/Halifax:20231231T200000
DTEND;TZID=America/Halifax:20240101T195959
DTSTAMP:20260425T123021
CREATED:20231005T215327Z
LAST-MODIFIED:20231122T022137Z
UID:10000003-1704052800-1704139199@chequessettclub.com
SUMMARY:New Year's Eve
DESCRIPTION:
URL:https://chequessettclub.com/event/new-years-eve/
LOCATION:Massachusetts
CATEGORIES:Holidays
END:VEVENT
BEGIN:VEVENT
DTSTART;TZID=America/Halifax:20231224T200000
DTEND;TZID=America/Halifax:20231225T195959
DTSTAMP:20260425T123021
CREATED:20231122T022203Z
LAST-MODIFIED:20231122T022203Z
UID:10000005-1703448000-1703534399@chequessettclub.com
SUMMARY:Christmas
DESCRIPTION:
URL:https://chequessettclub.com/event/christmas/
LOCATION:Massachusetts
END:VEVENT
END:VCALENDAR